BEGIN:VCALENDAR
VERSION:2.0
PRODID:-//Aslan Roars - ECPv6.15.11//NONSGML v1.0//EN
CALSCALE:GREGORIAN
METHOD:PUBLISH
X-ORIGINAL-URL:https://aslanroars.org
X-WR-CALDESC:Events for Aslan Roars
REFRESH-INTERVAL;VALUE=DURATION:PT1H
X-Robots-Tag:noindex
X-PUBLISHED-TTL:PT1H
BEGIN:VTIMEZONE
TZID:America/Chicago
BEGIN:DAYLIGHT
TZOFFSETFROM:-0600
TZOFFSETTO:-0500
TZNAME:CDT
DTSTART:20130310T080000
END:DAYLIGHT
BEGIN:STANDARD
TZOFFSETFROM:-0500
TZOFFSETTO:-0600
TZNAME:CST
DTSTART:20131103T070000
END:STANDARD
BEGIN:DAYLIGHT
TZOFFSETFROM:-0600
TZOFFSETTO:-0500
TZNAME:CDT
DTSTART:20140309T080000
END:DAYLIGHT
BEGIN:STANDARD
TZOFFSETFROM:-0500
TZOFFSETTO:-0600
TZNAME:CST
DTSTART:20141102T070000
END:STANDARD
BEGIN:DAYLIGHT
TZOFFSETFROM:-0600
TZOFFSETTO:-0500
TZNAME:CDT
DTSTART:20150308T080000
END:DAYLIGHT
BEGIN:STANDARD
TZOFFSETFROM:-0500
TZOFFSETTO:-0600
TZNAME:CST
DTSTART:20151101T070000
END:STANDARD
END:VTIMEZONE
BEGIN:VEVENT
DTSTART;TZID=America/Chicago:20140905T190000
DTEND;TZID=America/Chicago:20140906T120000
DTSTAMP:20260425T105243
CREATED:20140801T170247Z
LAST-MODIFIED:20140820T024646Z
UID:3930-1409943600-1410004800@aslanroars.org
SUMMARY:Voice of Awakening
DESCRIPTION:Dutch Sheets is an internationally recognized author\, teacher\, and conference speaker. He travels extensively\, empowering believers for passionate prayer and societal transformation. Dutch has pastored\, taught in several colleges and seminaries\, and served on the board of directors of numerous organizations.Dutch is a member of the International Coalition of Apostles and spearheads Network Ekklesia International\, a relational network of apostolic\, prophetic ministries that are equipping the church body concerning her true identity as a governmental legislature (the Ekklesia). In 2012\, Dutch was named Executive Director of Christ for the Nations Institute\, of which Dutch and his wife Ceci are graduates. \n \nKen Malone is being used by God to mobilize the body of Christ throughout Florida and the nation. A pastor for 24 years Ken stepped down from a pastoral position in 2008. He is an ordained minister and serves as the founder of Forerunner Ministries Inc and serves on the board of Dutch Sheets Ministries. Ken walks in a governmental apostolic mantle that releases the body of Christ into their destiny. He also ministers with a prophetic seer anointing which enables him to identify\, activate and release redemptive gifts in individuals\, churches and cities. \nNursery will be provided.
URL:https://aslanroars.org/events/voice-of-awakening/
LOCATION:Cathedral of Christ The King Selma\, AL\, 1204 Highland Ave\, Selma\, AL\, 36701\, United States
CATEGORIES:Events of Interest
ATTACH;FMTTYPE=image/jpeg:https://aslanroars.org/wp-content/uploads/2014/08/Voice-of-Awakening-002.jpg
END:VEVENT
BEGIN:VEVENT
DTSTART;TZID=America/Chicago:20140811T190000
DTEND;TZID=America/Chicago:20140815T220000
DTSTAMP:20260425T105243
CREATED:20140325T174906Z
LAST-MODIFIED:20140809T161912Z
UID:304-1407783600-1408140000@aslanroars.org
SUMMARY:Voice of the Apostles  Conference
DESCRIPTION:Global Awakening will hold their Voice of the Apostles 2014 conference in Orlando\, FL on August 11- 15.
URL:https://aslanroars.org/events/voice-of-the-apostles-conference/
LOCATION:Orange County Convention Center – West Building\, 9800 International Drive\, Orlando\, 32819\, United States
CATEGORIES:Events of Interest
ATTACH;FMTTYPE=image/jpeg:https://aslanroars.org/wp-content/uploads/2014/03/VOA-2014-banner.jpg
END:VEVENT
END:VCALENDAR